BEGIN:VCALENDAR
PRODID:-//eluceo/ical//2.0/EN
VERSION:2.0
CALSCALE:GREGORIAN
BEGIN:VEVENT
UID:b8c864eb758ffed269f364ac44133bc1
DTSTAMP:20260419T225622Z
SUMMARY:Shir Delights XII
DESCRIPTION:Jewish Federation of the Greater San Gabriel & Pomona Valleys\n
 Test Calendar\nhttps://jewishsgpv.org/test-calendar/shir-delights-xii-4050
 11\n\n
DTSTART;TZID=America/Los_Angeles:20220515T150000
DTEND;TZID=America/Los_Angeles:20220515T163000
END:VEVENT
END:VCALENDAR
