BEGIN:VCALENDAR
PRODID:-//eluceo/ical//2.0/EN
VERSION:2.0
CALSCALE:GREGORIAN
BEGIN:VEVENT
UID:2870421b4e9eb4096fc8413f718f2235
DTSTAMP:20260425T175545Z
SUMMARY:Shabbat Pesah First Day Service
DESCRIPTION:Jewish Federation of the Greater San Gabriel & Pomona Valleys\n
 Test Calendar\nhttps://jewishsgpv.org/test-calendar/shabbat-pesah-first-da
 y-service\n\nAll are invited to our Shabbat Pesah First Day Service conduc
 ted by Hazzan Tapper and Mark Peterson\, accompanist.  The service will i
 nclude the beautiful Hallel Psalms of Praise\, the Pesah hymn (Adir Hu)\, 
 Torah readings\, and the recitation of the prayer for dew (Tal) composed b
 y Hazzan Meir Finkelstein.  The Hazzan and Mr. Peterson change from black
  to white during the service for the chanting of Tal.  Kiddush will follo
 w the sevrice.
DTSTART;TZID=America/Los_Angeles:20180331T093000
DTEND;TZID=America/Los_Angeles:20180331T114500
END:VEVENT
END:VCALENDAR
