BEGIN:VCALENDAR
PRODID:-//eluceo/ical//2.0/EN
VERSION:2.0
CALSCALE:GREGORIAN
BEGIN:VEVENT
UID:953e7e0ca0da8fe03e43791bb26980ef
DTSTAMP:20260424T161342Z
SUMMARY:Shabbat morning services at Temple  Ami Shalom
DESCRIPTION:Jewish Federation of the Greater San Gabriel & Pomona Valleys\n
 Test Calendar\nhttps://jewishsgpv.org/test-calendar/shabbat-morning-servic
 es-at-temple-ami-shalom\n\nJoin us for a Shabbat service with beautiful mu
 sic and meaningful prayers followed by a wonderful kiddush lunch.
DTSTART;TZID=America/Los_Angeles:20180512T093000
DTEND;TZID=America/Los_Angeles:20180512T123000
END:VEVENT
END:VCALENDAR
