BEGIN:VCALENDAR
PRODID:-//eluceo/ical//2.0/EN
VERSION:2.0
CALSCALE:GREGORIAN
BEGIN:VEVENT
UID:83f4b3eec7c2d3b911964e3be3a75e6e
DTSTAMP:20260425T114231Z
SUMMARY:Purim Eve Service
DESCRIPTION:Jewish Federation of the Greater San Gabriel & Pomona Valleys\n
 Test Calendar\nhttps://jewishsgpv.org/test-calendar/purim-eve-service\n\nH
 azzan Tapper will lead a festive Purim eve service guised as a well known 
 1960's TV character who will have his own inimitable style of presenting t
 he service and Megillah reading.  Come and enjoy a great time drowning ou
 t the name of the evilest one of his period.  Dress in your favorite cost
 ume or bring a fun and happy demeanor to the service
DTSTART;TZID=America/Los_Angeles:20180228T190000
DTEND;TZID=America/Los_Angeles:20180228T200000
END:VEVENT
END:VCALENDAR
