BEGIN:VCALENDAR
PRODID:-//eluceo/ical//2.0/EN
VERSION:2.0
CALSCALE:GREGORIAN
BEGIN:VEVENT
UID:6e99b702a52de208fdca711906aadcc8
DTSTAMP:20260419T143405Z
SUMMARY:Miller INTRO to Judaism
DESCRIPTION:Jewish Federation of the Greater San Gabriel & Pomona Valleys\n
 Test Calendar\nhttps://jewishsgpv.org/test-calendar/miller-intro-to-judais
 m\n\n
DTSTART;TZID=America/Los_Angeles:20190221T190000
DTEND;TZID=America/Los_Angeles:20190221T213000
END:VEVENT
END:VCALENDAR
