BEGIN:VCALENDAR
PRODID:-//eluceo/ical//2.0/EN
VERSION:2.0
CALSCALE:GREGORIAN
BEGIN:VEVENT
UID:6a2694c485263a1cf02cf07a7a182531
DTSTAMP:20260420T093923Z
SUMMARY:Hazzan Tapper's Adult Education Series Continues
DESCRIPTION:Jewish Federation of the Greater San Gabriel & Pomona Valleys\n
 Test Calendar\nhttps://jewishsgpv.org/test-calendar/hazzan-tappers-adult-e
 ducation-series-continues\n\nHazzan Tapper continues his outstanding adult
  education series with this installment entitled "Why do we do and say wha
 t we do in the Shabbat Evening services".  He will explore in-depth the r
 easons for the traditions of Kabbalat and Erev Shabbat and make them more 
 relevant for our age.  The learning session begins at 10:00 am and lunch 
 will follow at 11:30 am with pizza\, salad\, and drinks.  All are invited
  to attend as this will be a very stimulating and participatory learning e
 vent for a...
DTSTART;TZID=America/Los_Angeles:20180211T100000
DTEND;TZID=America/Los_Angeles:20180211T120000
END:VEVENT
END:VCALENDAR
