BEGIN:VCALENDAR
PRODID:-//eluceo/ical//2.0/EN
VERSION:2.0
CALSCALE:GREGORIAN
BEGIN:VEVENT
UID:7df135df41b6053369c26ec57e18750a
DTSTAMP:20260424T065743Z
SUMMARY:Hamantash Baking
DESCRIPTION:Jewish Federation of the Greater San Gabriel & Pomona Valleys\n
 Test Calendar\nhttps://jewishsgpv.org/test-calendar/hamantash-baking\n\n
DTSTART;TZID=America/Los_Angeles:20210209T193000
DTEND;TZID=America/Los_Angeles:20210209T210000
END:VEVENT
END:VCALENDAR
