BEGIN:VCALENDAR
PRODID:-//eluceo/ical//2.0/EN
VERSION:2.0
CALSCALE:GREGORIAN
BEGIN:VEVENT
UID:12c0bc26eab93fd6b3a17f8303eaf73c
DTSTAMP:20260422T195702Z
SUMMARY:Zoom Spiritual Nourishment and Connection with Rabbi Rick Schechter
DESCRIPTION:Jewish Federation of the Greater San Gabriel & Pomona Valleys\n
 COMMUNITY CALENDAR\nhttps://jewishsgpv.org/calendar/zoom-spiritual-nourish
 ment-and-connection-with-rabbi-rick\n\nZoom Spiritual Nourishment and Conn
 ection with Rabbi Rick Schechter\n\nVisit www.templesinai.net for details
DTSTART;TZID=America/Los_Angeles:20200922T190000
DTEND;TZID=America/Los_Angeles:20200922T200000
END:VEVENT
END:VCALENDAR
