BEGIN:VCALENDAR
PRODID:-//eluceo/ical//2.0/EN
VERSION:2.0
CALSCALE:GREGORIAN
BEGIN:VEVENT
UID:e79c458da80ba5f6ae39c5eba4b1710c
DTSTAMP:20260423T082249Z
SUMMARY:Zoom Meditation Group with Rabbi Lisa Goldstein - PJTC
DESCRIPTION:Jewish Federation of the Greater San Gabriel & Pomona Valleys\n
 COMMUNITY CALENDAR\nhttps://jewishsgpv.org/calendar/zoom-meditation-group-
 with-rabbi-lisa-goldstein-pjtc\n\nZoom Meditation Group with Rabbi Lisa Go
 ldstein - PJTC\n\nVisit www.pjtc.net for details
DTSTART;TZID=America/Los_Angeles:20201003T124500
DTEND;TZID=America/Los_Angeles:20201003T134500
END:VEVENT
END:VCALENDAR
