BEGIN:VCALENDAR
PRODID:-//eluceo/ical//2.0/EN
VERSION:2.0
CALSCALE:GREGORIAN
BEGIN:VEVENT
UID:10177de1920c8a6eb19b469da9b9f2ab
DTSTAMP:20260422T191943Z
SUMMARY:Yom Kippur Services
DESCRIPTION:Jewish Federation of the Greater San Gabriel & Pomona Valleys\n
 COMMUNITY CALENDAR\nhttps://jewishsgpv.org/calendar/yom-kippur-services\n\
 n
DTSTART;TZID=America/Los_Angeles:20221005T000000
DTEND;TZID=America/Los_Angeles:20221005T193000
END:VEVENT
END:VCALENDAR
