BEGIN:VCALENDAR
PRODID:-//eluceo/ical//2.0/EN
VERSION:2.0
CALSCALE:GREGORIAN
BEGIN:VEVENT
UID:9c3a14913a4ca011df3660b343889c77
DTSTAMP:20260423T225205Z
SUMMARY:Yom Kippur Service
DESCRIPTION:Jewish Federation of the Greater San Gabriel & Pomona Valleys\n
 COMMUNITY CALENDAR\nhttps://jewishsgpv.org/calendar/yom-kippur-service\n\n
DTSTART;TZID=America/Los_Angeles:20241011T181500
DTEND;TZID=America/Los_Angeles:20241011T191500
END:VEVENT
END:VCALENDAR
