BEGIN:VCALENDAR
PRODID:-//eluceo/ical//2.0/EN
VERSION:2.0
CALSCALE:GREGORIAN
BEGIN:VEVENT
UID:c435ea6aabe9306b98a56e649a2c7bbe
DTSTAMP:20260425T015841Z
SUMMARY:Yom Kippur Morning Services
DESCRIPTION:Jewish Federation of the Greater San Gabriel & Pomona Valleys\n
 COMMUNITY CALENDAR\nhttps://jewishsgpv.org/calendar/yom-kippur-morning-ser
 vices\n\n
DTSTART;TZID=America/Los_Angeles:20230925T100000
DTEND;TZID=America/Los_Angeles:20230925T110000
END:VEVENT
END:VCALENDAR
