BEGIN:VCALENDAR
PRODID:-//eluceo/ical//2.0/EN
VERSION:2.0
CALSCALE:GREGORIAN
BEGIN:VEVENT
UID:67f7a45f1b3d93bddc5a687073148952
DTSTAMP:20260422T223142Z
SUMMARY:Yom Kippur  Mincha Neila Closing
DESCRIPTION:Jewish Federation of the Greater San Gabriel & Pomona Valleys\n
 COMMUNITY CALENDAR\nhttps://jewishsgpv.org/calendar/yom-kippur-mincha-neil
 a-closing\n\n
DTSTART;TZID=America/Los_Angeles:20230925T173000
DTEND;TZID=America/Los_Angeles:20230925T193000
END:VEVENT
END:VCALENDAR
