BEGIN:VCALENDAR
PRODID:-//eluceo/ical//2.0/EN
VERSION:2.0
CALSCALE:GREGORIAN
BEGIN:VEVENT
UID:04ae25f7e899a2023085b854ad538ee3
DTSTAMP:20260423T034250Z
SUMMARY:Yom Kippur Eve Services
DESCRIPTION:Jewish Federation of the Greater San Gabriel & Pomona Valleys\n
 COMMUNITY CALENDAR\nhttps://jewishsgpv.org/calendar/yom-kippur-eve-service
 s\n\n
DTSTART;TZID=America/Los_Angeles:20230924T181500
DTEND;TZID=America/Los_Angeles:20230924T191500
END:VEVENT
END:VCALENDAR
