BEGIN:VCALENDAR
PRODID:-//eluceo/ical//2.0/EN
VERSION:2.0
CALSCALE:GREGORIAN
BEGIN:VEVENT
UID:d7acda33768b367277131172c0bde95a
DTSTAMP:20260422T182830Z
SUMMARY:Yom Kippur Eve Service
DESCRIPTION:Jewish Federation of the Greater San Gabriel & Pomona Valleys\n
 COMMUNITY CALENDAR\nhttps://jewishsgpv.org/calendar/yom-kippur-eve-service
 \n\n
DTSTART;TZID=America/Los_Angeles:20221004T183000
DTEND;TZID=America/Los_Angeles:20221004T200000
END:VEVENT
END:VCALENDAR
