BEGIN:VCALENDAR
PRODID:-//eluceo/ical//2.0/EN
VERSION:2.0
CALSCALE:GREGORIAN
BEGIN:VEVENT
UID:1b87b804e64c87d6c0452ec736d9c48d
DTSTAMP:20260421T033420Z
SUMMARY:Yom Kippur at Temple Beth Israel Highland Park & Eagle Rock
DESCRIPTION:Jewish Federation of the Greater San Gabriel & Pomona Valleys\n
 COMMUNITY CALENDAR\nhttps://jewishsgpv.org/calendar/yom-kippur-at-temple-b
 eth-israel-highland-park-eagle-rock\n\n
DTSTART;TZID=America/Los_Angeles:20230925T090000
DTEND;TZID=America/Los_Angeles:20230925T200000
END:VEVENT
END:VCALENDAR
