BEGIN:VCALENDAR
PRODID:-//eluceo/ical//2.0/EN
VERSION:2.0
CALSCALE:GREGORIAN
BEGIN:VEVENT
UID:4b2b8b9ee26d7dd1370105da9875b73a
DTSTAMP:20260421T090228Z
SUMMARY:Yom HaShoah Commemoration
DESCRIPTION:Jewish Federation of the Greater San Gabriel & Pomona Valleys\n
 COMMUNITY CALENDAR\nhttps://jewishsgpv.org/calendar/yom-hashoah-commemorat
 ion\n\nJoin the TBI community in the TBI Sanctuary as we commemorate Holoc
 aust Remembramce Day with an multi-faceted program of film\, words and mui
 sc. Comopser/pianist David Spear and Cantor Toby Schwartz join Rabbi Kupet
 z and Cantor Paul Buch in a program entitled "Conronting the Holocaust." 
  The program will examine the what America knew about the atrocities taki
 ng place both before and during WWII. The afternoon will also feature Mond
 y Gottesman on cello\, a student in our Beif Sefer (Religious S...
DTSTART;TZID=America/Los_Angeles:20250420T160000
DTEND;TZID=America/Los_Angeles:20250420T180000
END:VEVENT
END:VCALENDAR
