BEGIN:VCALENDAR
PRODID:-//eluceo/ical//2.0/EN
VERSION:2.0
CALSCALE:GREGORIAN
BEGIN:VEVENT
UID:7feafb93ad5ecfaad9ff570a9db6d23a
DTSTAMP:20260422T091417Z
SUMMARY:Jewish Book Festival | Yelena Lembersky: Like a Drop of Ink in A Do
 wn Pour
DESCRIPTION:Jewish Federation of the Greater San Gabriel & Pomona Valleys\n
 COMMUNITY CALENDAR\nhttps://jewishsgpv.org/calendar/yelena-lembersky-like-
 a-drop-if-ink-in-a-down-pour\n\n 
DTSTART;TZID=America/Los_Angeles:20221023T100000
DTEND;TZID=America/Los_Angeles:20221023T113000
END:VEVENT
END:VCALENDAR
