BEGIN:VCALENDAR
PRODID:-//eluceo/ical//2.0/EN
VERSION:2.0
CALSCALE:GREGORIAN
BEGIN:VEVENT
UID:b78d90eb7786fb14a75cc8b2de60526f
DTSTAMP:20260424T010216Z
SUMMARY:World Premiere of: Studio System
DESCRIPTION:Jewish Federation of the Greater San Gabriel & Pomona Valleys\n
 COMMUNITY CALENDAR\nhttps://jewishsgpv.org/calendar/world-premiere-of-stud
 io-system\n\nThe Jewish Federation of the Greater San Gabriel and Pomona V
 alleys & The JFed Players Community Theatre Ensemble is proud to announce 
 the World Premiere of:\n\nStudio System\n\nWritten by one of our own\, Mar
 y Gatter\,\n\nand her collaborator\, Larry Wuest!\n\n \n\nFull of romance
 \, humor\, and song\, this charming musical takes place in 1928 and pays h
 omage to the Studio System of the past.\n\nPlan to join us on Sunday\, Mar
 ch 21\, 2021\, for the premiere –\n\nWith the link\, you can enjoy the..
 .
DTSTART;TZID=America/Los_Angeles:20210321T000000
DTEND;TZID=America/Los_Angeles:20210321T235959
END:VEVENT
END:VCALENDAR
