BEGIN:VCALENDAR
PRODID:-//eluceo/ical//2.0/EN
VERSION:2.0
CALSCALE:GREGORIAN
BEGIN:VEVENT
UID:59f626c68f3a2948b2ba278a1b9e8ca7
DTSTAMP:20260423T190656Z
SUMMARY:Women's Circle Kreplach at Chabad of the Inland Empire
DESCRIPTION:Jewish Federation of the Greater San Gabriel & Pomona Valleys\n
 COMMUNITY CALENDAR\nhttps://jewishsgpv.org/calendar/womens-circle-kreplach
 \n\n
DTSTART;TZID=America/Los_Angeles:20241203T193000
DTEND;TZID=America/Los_Angeles:20241203T213000
END:VEVENT
END:VCALENDAR
