BEGIN:VCALENDAR
PRODID:-//eluceo/ical//2.0/EN
VERSION:2.0
CALSCALE:GREGORIAN
BEGIN:VEVENT
UID:5fa790f10b648f80605c94189e186e11
DTSTAMP:20260424T213454Z
SUMMARY:Women's Circle Halvah
DESCRIPTION:Jewish Federation of the Greater San Gabriel & Pomona Valleys\n
 COMMUNITY CALENDAR\nhttps://jewishsgpv.org/calendar/womens-circle-halvah\n
 \n
DTSTART;TZID=America/Los_Angeles:20231107T193000
DTEND;TZID=America/Los_Angeles:20231107T210000
END:VEVENT
END:VCALENDAR
