BEGIN:VCALENDAR
PRODID:-//eluceo/ical//2.0/EN
VERSION:2.0
CALSCALE:GREGORIAN
BEGIN:VEVENT
UID:70fff6c24819ed01169a3f304324e109
DTSTAMP:20260419T193622Z
SUMMARY:Women's Circle Focaccia
DESCRIPTION:Jewish Federation of the Greater San Gabriel & Pomona Valleys\n
 COMMUNITY CALENDAR\nhttps://jewishsgpv.org/calendar/womens-circle-focaccia
 \n\n
DTSTART;TZID=America/Los_Angeles:20240604T073000
DTEND;TZID=America/Los_Angeles:20240604T213000
END:VEVENT
END:VCALENDAR
