BEGIN:VCALENDAR
PRODID:-//eluceo/ical//2.0/EN
VERSION:2.0
CALSCALE:GREGORIAN
BEGIN:VEVENT
UID:d8adef2e7d8c0c58997c68b9306b49c3
DTSTAMP:20260426T010811Z
SUMMARY:Women's Circle Babka
DESCRIPTION:Jewish Federation of the Greater San Gabriel & Pomona Valleys\n
 COMMUNITY CALENDAR\nhttps://jewishsgpv.org/calendar/womens-circle-babka\n\
 n
DTSTART;TZID=America/Los_Angeles:20250506T073000
DTEND;TZID=America/Los_Angeles:20250506T220000
END:VEVENT
END:VCALENDAR
