BEGIN:VCALENDAR
PRODID:-//eluceo/ical//2.0/EN
VERSION:2.0
CALSCALE:GREGORIAN
BEGIN:VEVENT
UID:448605476b02df6918a596cf6a2fcb1e
DTSTAMP:20260424T065137Z
SUMMARY:"Wise Aging" Class
DESCRIPTION:Jewish Federation of the Greater San Gabriel & Pomona Valleys\n
 COMMUNITY CALENDAR\nhttps://jewishsgpv.org/calendar/wise-aging-class\n\nWe
 dnesdays in March at 7:30pm VIA ZOOM\n\nPresented by Temple Sinai of Glend
 ale\n\nTo RSVP- visit Home - Temple Sinai of Glendale (temple-sinai.net)\
 n\nThis class celebrates those over 50\, helping us work on our roadblocks
  so we can find new meaning in our lives
DTSTART;TZID=America/Los_Angeles:20220330T193000
DTEND;TZID=America/Los_Angeles:20220330T203000
END:VEVENT
END:VCALENDAR
