BEGIN:VCALENDAR
PRODID:-//eluceo/ical//2.0/EN
VERSION:2.0
CALSCALE:GREGORIAN
BEGIN:VEVENT
UID:676fcf33b4117460ef361ca4720a409c
DTSTAMP:20260424T021441Z
SUMMARY:"Wine & Wisdom"with Rabbi Zushi Rivkin
DESCRIPTION:Jewish Federation of the Greater San Gabriel & Pomona Valleys\n
 COMMUNITY CALENDAR\nhttps://jewishsgpv.org/calendar/wine-wisdomwith-rabbi-
 zushi\n\nClick here to join 
DTSTART;TZID=America/Los_Angeles:20200429T190000
DTEND;TZID=America/Los_Angeles:20200429T200000
END:VEVENT
END:VCALENDAR
