BEGIN:VCALENDAR
PRODID:-//eluceo/ical//2.0/EN
VERSION:2.0
CALSCALE:GREGORIAN
BEGIN:VEVENT
UID:a8e85776b88fce2f8fab2d49c7b51e9d
DTSTAMP:20260424T144350Z
SUMMARY:Why We Became Rabbis: Rabbis Singer\, Lotker and Koch
DESCRIPTION:Jewish Federation of the Greater San Gabriel & Pomona Valleys\n
 COMMUNITY CALENDAR\nhttps://jewishsgpv.org/calendar/why-we-became-rabbis-r
 abbis-singer-lotker-and-koch\n\nWhy We Became Rabbis: Rabbis Singer\, Lotk
 er and Koch February 27\, 2 PM On Zoom\n\nPresented by Riverside Temple Be
 th El\n\nRSVP: email office@tberiv.org to receive Zoom link\n\n\nRabbis 
 Suzanne Singer\, Michael Lotker and Annette Koch are all second career rab
 bis. What motivated them to make a career change mid-life\, from televisio
 n producer\, physicist and lawyer respectively? Moderated by congregant Do
 ug Moss
DTSTART;TZID=America/Los_Angeles:20220227T140000
DTEND;TZID=America/Los_Angeles:20220227T150000
END:VEVENT
END:VCALENDAR
