BEGIN:VCALENDAR
PRODID:-//eluceo/ical//2.0/EN
VERSION:2.0
CALSCALE:GREGORIAN
BEGIN:VEVENT
UID:6d0171ec5ab15d12a9ce77dd5a9fba53
DTSTAMP:20260425T212752Z
SUMMARY:Welcoming Afghans to America - PJTC
DESCRIPTION:Jewish Federation of the Greater San Gabriel & Pomona Valleys\n
 COMMUNITY CALENDAR\nhttps://jewishsgpv.org/calendar/welcoming-afghans-to-a
 merica-pjtc\n\n
DTSTART;TZID=America/Los_Angeles:20220213T170000
DTEND;TZID=America/Los_Angeles:20220213T180000
END:VEVENT
END:VCALENDAR
