BEGIN:VCALENDAR
PRODID:-//eluceo/ical//2.0/EN
VERSION:2.0
CALSCALE:GREGORIAN
BEGIN:VEVENT
UID:9dbd3f7b2497f92f5f245ea381343cf2
DTSTAMP:20260425T133628Z
SUMMARY:Weekly Torah Study | Temple Sholom of Ontario
DESCRIPTION:Jewish Federation of the Greater San Gabriel & Pomona Valleys\n
 COMMUNITY CALENDAR\nhttps://jewishsgpv.org/calendar/weekly-torah-study-tem
 ple-sholom-of-ontario\n\nJoin us on Tuesday evenings at 7:30 PM. We study 
 the Parshat for the week. On Zoom. To register send an email to secretary@
 templesholomofontario.org
DTSTART;TZID=America/Los_Angeles:20210427T193000
DTEND;TZID=America/Los_Angeles:20210427T203000
END:VEVENT
END:VCALENDAR
