BEGIN:VCALENDAR
PRODID:-//eluceo/ical//2.0/EN
VERSION:2.0
CALSCALE:GREGORIAN
BEGIN:VEVENT
UID:729cd2f3caed586494213e3b0cbb49d6
DTSTAMP:20260421T183349Z
SUMMARY:WARRIORS\, WORSHIPERS\, AND WIVES: WOMEN IN THE BIBLE AND CONTEMPOR
 ARY ISRAEL
DESCRIPTION:Jewish Federation of the Greater San Gabriel & Pomona Valleys\n
 COMMUNITY CALENDAR\nhttps://jewishsgpv.org/calendar/warriors-worshipers-an
 d-wives-women-in-the-bible-and-contemporary-israel\n\nWARRIORS\, WORSHIPER
 S\, AND WIVES: WOMEN IN THE BIBLE AND CONTEMPORARY ISRAEL\n\nOn Wednesdays
 \, April 20 and 27 and May 4\, at 7:15-8:30 p.m.\, hybrid (via AJL Zoom an
 d in-person)\n\nTaught by Gary Gilbert and Tammi J. Schneider\n\nPresented
  by Temple Beth Israel of Pomona\n\nRSVP to the TBI Office at bparker@tbip
 omona.org or (909) 626-1277\n\nWomen play a central role in the Bible in a
  variety of capacities\, including as military and political leaders\, wor
 shipers of God\, and in families as mothe...
DTSTART;TZID=America/Los_Angeles:20220420T191500
DTEND;TZID=America/Los_Angeles:20220420T203000
END:VEVENT
END:VCALENDAR
