BEGIN:VCALENDAR
PRODID:-//eluceo/ical//2.0/EN
VERSION:2.0
CALSCALE:GREGORIAN
BEGIN:VEVENT
UID:65a8b4fcb3bd9cdae1ba936103f12be8
DTSTAMP:20260420T171724Z
SUMMARY:Virtual Town Hall Meeting with Consul General of Israel
DESCRIPTION:Jewish Federation of the Greater San Gabriel & Pomona Valleys\n
 COMMUNITY CALENDAR\nhttps://jewishsgpv.org/calendar/virtual-town-hall-meet
 ing-with-consul-general-of-israel\n\n
DTSTART;TZID=America/Los_Angeles:20201020T190000
DTEND;TZID=America/Los_Angeles:20201020T210000
END:VEVENT
END:VCALENDAR
