BEGIN:VCALENDAR
PRODID:-//eluceo/ical//2.0/EN
VERSION:2.0
CALSCALE:GREGORIAN
BEGIN:VEVENT
UID:88e10fa0246914728fd60ec88e9ae3d4
DTSTAMP:20260420T104756Z
SUMMARY:Virtual Shabbat Services - Temple B'nai Emet
DESCRIPTION:Jewish Federation of the Greater San Gabriel & Pomona Valleys\n
 COMMUNITY CALENDAR\nhttps://jewishsgpv.org/calendar/virtual-shabbat-servic
 es-temple-bnai-emet\n\nWe hold Zoom Shabbos services every Saturday mornin
 g from 10 am-12 pm.\n\nAll are welcome of course.\n\nContact our office fo
 r Zoom information—323-721-7064
DTSTART;TZID=America/Los_Angeles:20201017T100000
DTEND;TZID=America/Los_Angeles:20201017T120000
END:VEVENT
END:VCALENDAR
