BEGIN:VCALENDAR
PRODID:-//eluceo/ical//2.0/EN
VERSION:2.0
CALSCALE:GREGORIAN
BEGIN:VEVENT
UID:c2845681337f0c695f5258f2a32f2ba9
DTSTAMP:20260423T071729Z
SUMMARY:Virtual Passover Seder at Temple Beth David
DESCRIPTION:Jewish Federation of the Greater San Gabriel & Pomona Valleys\n
 COMMUNITY CALENDAR\nhttps://jewishsgpv.org/calendar/virtual-passover-seder
 -at-temple-beth-david\n\nCommunity virtual Passover Seder via zoom  on Ap
 ril 10th at 6:00 via zoom. 
DTSTART;TZID=America/Los_Angeles:20200410T180000
DTEND;TZID=America/Los_Angeles:20200410T190000
END:VEVENT
END:VCALENDAR
