BEGIN:VCALENDAR
PRODID:-//eluceo/ical//2.0/EN
VERSION:2.0
CALSCALE:GREGORIAN
BEGIN:VEVENT
UID:e419c91beb4c8624841ce3d70aef4bf4
DTSTAMP:20260425T000652Z
SUMMARY:Virtual Minyan and Torah Study - Temple Sinai of Glendale
DESCRIPTION:Jewish Federation of the Greater San Gabriel & Pomona Valleys\n
 COMMUNITY CALENDAR\nhttps://jewishsgpv.org/calendar/virtual-minyan-and-tor
 ah-study-temple-sinai-of-glendale\n\nVirtual Minyan and Torah Study with T
 emple Sinai of Glendale\n\nVisit www.templesinai.net for details
DTSTART;TZID=America/Los_Angeles:20200926T100000
DTEND;TZID=America/Los_Angeles:20200926T120000
END:VEVENT
END:VCALENDAR
