BEGIN:VCALENDAR
PRODID:-//eluceo/ical//2.0/EN
VERSION:2.0
CALSCALE:GREGORIAN
BEGIN:VEVENT
UID:224588f3f26cf044c0bce27d6787546e
DTSTAMP:20260423T131537Z
SUMMARY:Virtual Family Shabbat Service - Temple Sinai of Glendale
DESCRIPTION:Jewish Federation of the Greater San Gabriel & Pomona Valleys\n
 COMMUNITY CALENDAR\nhttps://jewishsgpv.org/calendar/virtual-family-shabbat
 -service-temple-sinai-of-glendale\n\nVirtual Family Shabbat Service\n\nVis
 it https://temple-sinai.net for details\n\n \n\n\n 
DTSTART;TZID=America/Los_Angeles:20201002T190000
DTEND;TZID=America/Los_Angeles:20201002T200000
END:VEVENT
END:VCALENDAR
