BEGIN:VCALENDAR
PRODID:-//eluceo/ical//2.0/EN
VERSION:2.0
CALSCALE:GREGORIAN
BEGIN:VEVENT
UID:1a91e680a782e5ead6b9e5c7ea2671e6
DTSTAMP:20260423T105727Z
SUMMARY:Virtual Bagel Breakfast w/ Jason Moss
DESCRIPTION:Jewish Federation of the Greater San Gabriel & Pomona Valleys\n
 COMMUNITY CALENDAR\nhttps://jewishsgpv.org/calendar/virtual-bagel-breakfas
 t-w-jason-moss\n\n"The Future of American Jewry" Virtual Bagel Breakfast w
 ith Jason Moss (Executive Director of the Jewish Federation of the San Gab
 riel and Pomona Valleys.\n\nCo-presented by Temple Beth David and the Jewi
 sh Federation
DTSTART;TZID=America/Los_Angeles:20220306T100000
DTEND;TZID=America/Los_Angeles:20220306T110000
END:VEVENT
END:VCALENDAR
