BEGIN:VCALENDAR
PRODID:-//eluceo/ical//2.0/EN
VERSION:2.0
CALSCALE:GREGORIAN
BEGIN:VEVENT
UID:07e90e30a6ff0844edb0c9db91efd54d
DTSTAMP:20260425T164658Z
SUMMARY:Virtual Author Event: The Klansman's Son
DESCRIPTION:Jewish Federation of the Greater San Gabriel & Pomona Valleys\n
 COMMUNITY CALENDAR\nhttps://jewishsgpv.org/calendar/virtual-author-event-t
 he\n\n
DTSTART;TZID=America/Los_Angeles:20250326T190000
DTEND;TZID=America/Los_Angeles:20250326T200000
END:VEVENT
END:VCALENDAR
