BEGIN:VCALENDAR
PRODID:-//eluceo/ical//2.0/EN
VERSION:2.0
CALSCALE:GREGORIAN
BEGIN:VEVENT
UID:7637aa65be1932920d7abf23976bbd1a
DTSTAMP:20260420T191939Z
SUMMARY:Tu B'Shevat Seder
DESCRIPTION:Jewish Federation of the Greater San Gabriel & Pomona Valleys\n
 COMMUNITY CALENDAR\nhttps://jewishsgpv.org/calendar/tubshevatseder\n\nJewi
 sh Adventure School welcomes everyone to our Annual TU B'Shevat Seder on F
 ebruary 9\, 2025 at 11:30AM.
DTSTART;TZID=America/Los_Angeles:20250209T113000
DTEND;TZID=America/Los_Angeles:20250209T130000
END:VEVENT
END:VCALENDAR
