BEGIN:VCALENDAR
PRODID:-//eluceo/ical//2.0/EN
VERSION:2.0
CALSCALE:GREGORIAN
BEGIN:VEVENT
UID:93e7ad2fd93c7e92b760c0accc87972b
DTSTAMP:20260420T221113Z
SUMMARY:Tu B’Shvat  Tree Planting Party in a Parcel
DESCRIPTION:Jewish Federation of the Greater San Gabriel & Pomona Valleys\n
 COMMUNITY CALENDAR\nhttps://jewishsgpv.org/calendar/tu-bshvat-with-pj-libr
 ary\n\nClick here to RSVP
DTSTART;TZID=America/Los_Angeles:20210128T000000
DTEND;TZID=America/Los_Angeles:20210128T235959
END:VEVENT
END:VCALENDAR
