BEGIN:VCALENDAR
PRODID:-//eluceo/ical//2.0/EN
VERSION:2.0
CALSCALE:GREGORIAN
BEGIN:VEVENT
UID:c685519ee3fa7b2f28e63cc175d572df
DTSTAMP:20260423T181330Z
SUMMARY:Tu B'shvat hike
DESCRIPTION:Jewish Federation of the Greater San Gabriel & Pomona Valleys\n
 COMMUNITY CALENDAR\nhttps://jewishsgpv.org/calendar/tu-bshvat-hike-chabad\
 n\n
DTSTART;TZID=America/Los_Angeles:20260201T100000
DTEND;TZID=America/Los_Angeles:20260201T120000
END:VEVENT
END:VCALENDAR
