BEGIN:VCALENDAR
PRODID:-//eluceo/ical//2.0/EN
VERSION:2.0
CALSCALE:GREGORIAN
BEGIN:VEVENT
UID:7a4a9cc59124f4ebc80e4eeb1e0ca094
DTSTAMP:20260423T144631Z
SUMMARY:Chabad Tu B'shvat Hike
DESCRIPTION:Jewish Federation of the Greater San Gabriel & Pomona Valleys\n
 COMMUNITY CALENDAR\nhttps://jewishsgpv.org/calendar/tu-bshvat-hike\n\n
DTSTART;TZID=America/Los_Angeles:20220116T100000
DTEND;TZID=America/Los_Angeles:20220116T120000
END:VEVENT
END:VCALENDAR
