BEGIN:VCALENDAR
PRODID:-//eluceo/ical//2.0/EN
VERSION:2.0
CALSCALE:GREGORIAN
BEGIN:VEVENT
UID:c34f1b76cee8ae6e6227ccc1f0ea3986
DTSTAMP:20260420T064140Z
SUMMARY:Tu B'shvat Celebration
DESCRIPTION:Jewish Federation of the Greater San Gabriel & Pomona Valleys\n
 COMMUNITY CALENDAR\nhttps://jewishsgpv.org/calendar/tu-bshvat-celebration\
 n\n
DTSTART;TZID=America/Los_Angeles:20250209T100000
DTEND;TZID=America/Los_Angeles:20250209T120000
END:VEVENT
END:VCALENDAR
