BEGIN:VCALENDAR
PRODID:-//eluceo/ical//2.0/EN
VERSION:2.0
CALSCALE:GREGORIAN
BEGIN:VEVENT
UID:6a755245d72b90c716c98b7980f1ef81
DTSTAMP:20260419T224841Z
SUMMARY:Tu B'shvat hike
DESCRIPTION:Jewish Federation of the Greater San Gabriel & Pomona Valleys\n
 COMMUNITY CALENDAR\nhttps://jewishsgpv.org/calendar/tu-bshvat\n\n
DTSTART;TZID=America/Los_Angeles:20240121T100000
DTEND;TZID=America/Los_Angeles:20240121T120000
END:VEVENT
END:VCALENDAR
