BEGIN:VCALENDAR
PRODID:-//eluceo/ical//2.0/EN
VERSION:2.0
CALSCALE:GREGORIAN
BEGIN:VEVENT
UID:8827ecb242915abfeed684c62c9be1a1
DTSTAMP:20260421T223011Z
SUMMARY:Tu B'Shevat\, Sweethearts' Day & President's Weekend
DESCRIPTION:Jewish Federation of the Greater San Gabriel & Pomona Valleys\n
 COMMUNITY CALENDAR\nhttps://jewishsgpv.org/calendar/tu-bshevat-sweethearts
 -day-presidents-weekend\n\nJoin on Feb 14th at 7:30PM for Tu B'Shevat\, Sw
 eethearts' Day & President's Weekend 
DTSTART;TZID=America/Los_Angeles:20250214T193000
DTEND;TZID=America/Los_Angeles:20250214T213000
END:VEVENT
END:VCALENDAR
