BEGIN:VCALENDAR
PRODID:-//eluceo/ical//2.0/EN
VERSION:2.0
CALSCALE:GREGORIAN
BEGIN:VEVENT
UID:540cfad91e3eace9ec43188fb431cb46
DTSTAMP:20260422T092751Z
SUMMARY:Tu B'Shevat Seder
DESCRIPTION:Jewish Federation of the Greater San Gabriel & Pomona Valleys\n
 COMMUNITY CALENDAR\nhttps://jewishsgpv.org/calendar/tu-bshevat-seder\n\nJe
 wish Adventure School Welcomes everyone to our Annual TU B'Shevat Seder.
DTSTART;TZID=America/Los_Angeles:20250309T113000
DTEND;TZID=America/Los_Angeles:20250309T130000
END:VEVENT
END:VCALENDAR
