BEGIN:VCALENDAR
PRODID:-//eluceo/ical//2.0/EN
VERSION:2.0
CALSCALE:GREGORIAN
BEGIN:VEVENT
UID:a06d3e08996030fcc25b10065de50f40
DTSTAMP:20260421T090719Z
SUMMARY:TSG's Sisterhood's Book Ends
DESCRIPTION:Jewish Federation of the Greater San Gabriel & Pomona Valleys\n
 COMMUNITY CALENDAR\nhttps://jewishsgpv.org/calendar/tsgs-sisterhoods-book-
 ends\n\nSisterhood's Book Ends\n\nTuesday\, 4/5 at 7pm VIA ZOOM\n\nPrese
 nted by Temple Sinai of Glendale\n\nTo RSVP/For More Information- visit t
 emple-sinai.net\n\nTSG's Sisterhood invites you to attend our monthly disc
 ussion of books "by\, for\, or about women." This month we'll be talking w
 ith TSG member and author Adrienne Alitowski about her brand-new memior\,
  "Clipped!”
DTSTART;TZID=America/Los_Angeles:20220405T190000
DTEND;TZID=America/Los_Angeles:20220405T210000
END:VEVENT
END:VCALENDAR
