BEGIN:VCALENDAR
PRODID:-//eluceo/ical//2.0/EN
VERSION:2.0
CALSCALE:GREGORIAN
BEGIN:VEVENT
UID:b70f480da8d8d8d1cd62aca84e8f10c6
DTSTAMP:20260420T165603Z
SUMMARY:Welcome 5782 with TSG Sisterhood
DESCRIPTION:Jewish Federation of the Greater San Gabriel & Pomona Valleys\n
 COMMUNITY CALENDAR\nhttps://jewishsgpv.org/calendar/tsg_sisterhood\n\n
DTSTART;TZID=America/Los_Angeles:20211017T101500
DTEND;TZID=America/Los_Angeles:20211017T120000
END:VEVENT
END:VCALENDAR
