BEGIN:VCALENDAR
PRODID:-//eluceo/ical//2.0/EN
VERSION:2.0
CALSCALE:GREGORIAN
BEGIN:VEVENT
UID:d4cf6a15f6f4bf4fcf721d29aa37c75d
DTSTAMP:20260420T142013Z
SUMMARY:Town Hall Meeting with Consul General of Israel
DESCRIPTION:Jewish Federation of the Greater San Gabriel & Pomona Valleys\n
 COMMUNITY CALENDAR\nhttps://jewishsgpv.org/calendar/town-hall-meeting-with
 -consul-general-of-israel\n\nDue to the security concerns surrounding this
  event\, ALL attendees must register no later than noon on Wednesday\, May
  10. THERE WILL BE ABSOLUTELY NO WALK-INS ALLOWED FOR THIS EVENT\n\n\n\n\n
 We are excited to bring the Consul General of Israel\, Dr. Hillel Newman\,
  to our community for a special Town Hall. We are fully aware that the cu
 rrent situation in Israel is highly controversial and that there are issue
 s that many of us have real concerns about. This Town Hall Meeting is a 
 unique oppor...
DTSTART;TZID=America/Los_Angeles:20230515T193000
DTEND;TZID=America/Los_Angeles:20230515T210000
END:VEVENT
END:VCALENDAR
