BEGIN:VCALENDAR
PRODID:-//eluceo/ical//2.0/EN
VERSION:2.0
CALSCALE:GREGORIAN
BEGIN:VEVENT
UID:5025a52ea6da9a986072b615b9d0180b
DTSTAMP:20260422T225512Z
SUMMARY:Town Hall: 2021 Community Survey Results
DESCRIPTION:Jewish Federation of the Greater San Gabriel & Pomona Valleys\n
 COMMUNITY CALENDAR\nhttps://jewishsgpv.org/calendar/town-hall-2021-communi
 ty-survey-results\n\n
DTSTART;TZID=America/Los_Angeles:20211013T130000
DTEND;TZID=America/Los_Angeles:20211013T143000
END:VEVENT
END:VCALENDAR
