BEGIN:VCALENDAR
PRODID:-//eluceo/ical//2.0/EN
VERSION:2.0
CALSCALE:GREGORIAN
BEGIN:VEVENT
UID:b3489bb46d69fa68ab1a589be4d0da67
DTSTAMP:20260420T074543Z
SUMMARY:Torah on Tap with Rabbi Alex Weisz
DESCRIPTION:Jewish Federation of the Greater San Gabriel & Pomona Valleys\n
 COMMUNITY CALENDAR\nhttps://jewishsgpv.org/calendar/torah-on-tap-with-rabb
 i-alex-weisz\n\nJoin Rabbi Alex Weisz for a weekly Torah Study class at Go
 od Housekeeping in Highland Park! Enjoy some great Torah paired with some 
 of the finest cocktails in Los Angeles. Whether you are a mixologist or a 
 teatotaler\, we would love to have you join us!
DTSTART;TZID=America/Los_Angeles:20241203T190000
DTEND;TZID=America/Los_Angeles:20241203T203000
END:VEVENT
END:VCALENDAR
