BEGIN:VCALENDAR
PRODID:-//eluceo/ical//2.0/EN
VERSION:2.0
CALSCALE:GREGORIAN
BEGIN:VEVENT
UID:4bae1c349abecea2547a0b3af3d39435
DTSTAMP:20260420T213843Z
SUMMARY:"To Be a Mensch!"- Pasadena Jewish Academy
DESCRIPTION:Jewish Federation of the Greater San Gabriel & Pomona Valleys\n
 COMMUNITY CALENDAR\nhttps://jewishsgpv.org/calendar/to-be-a-mensch\n\nClic
 k here to join 
DTSTART;TZID=America/Los_Angeles:20200426T110000
DTEND;TZID=America/Los_Angeles:20200426T120000
END:VEVENT
END:VCALENDAR
